Workbook

Sheet Vermögensübersicht
B2: Bargeld
B4: Kasse CHF | D4: Kasse EUR | F4: Kasse GBP | N4: Total CHF
B5: =SUMIF(Buch!F$1:F$519,"Kasse CHF",Buch!M$1:M$17) -> 81.7 | D5: =SUMIF(Buch!F$1:F$519,"Kasse EUR",Buch!M$1:M$17) -> 20.23 | F5: =SUMIF(Buch!F$1:F$519,"Kasse GBP",Buch!I$1:J$1519) -> 150 | N5: =SUM(B5,D6,F6) -> 326.022
D6: =D5*VLOOKUP("EUR",Kurse!$A$2:$B$5,2) -> 28.322 | F6: =F5*VLOOKUP("GBP",Kurse!$A$2:$B$5,2) -> 216
B9: Konten
B11: Post | D11: Bank | N11: Total CHF
B12: =SUMIF(Buch!F$1:F$519,"Post",Buch!M$1:M$17) -> 506.45 | D12: =SUMIF(Buch!F$1:F$519,"Bank",Buch!M$1:M$17) -> 2026.65 | N12: =SUM(B12,D12,F12,H12) -> 2533.1
B15: Sparkonten
N17: Total CHF
N18: =SUM(B18,D18,F18,H18,L18) -> 0
B21: Anlagen
N23: Total CHF
N24: =SUM(B24,D24,F24,H24,J24) -> 0
N27: Total CHF
N28: =SUM(N5,N12,N18,N24) -> 2859.122

Sheet Buch
A1: Nr. | B1: T | C1: M | D1: J | E1: Code | F1: Konto | G1: Bemerkungen | H1: Währung | I1: Einnahmen | J1: Ausgaben | K1: CHF Ein | L1: CHF Aus | M1: Summe CHF | N1: Summe EUR | O1: Summe GBP
A2: 1 | F2: Post | G2: Eröffnung | H2: CHF | I2: 506.45 | K2: =IF(H2="","",I2*VLOOKUP(H2,Kurse!$A$2:$B$5,2)) -> 506.45 | L2: =IF(H2="","",J2*VLOOKUP(H2,Kurse!$A$2:$B$5,2)) -> 0 | M2: =SUM(K2:L2) -> 506.45 | N2: =SUMIF(Buch!F2,"Kasse EUR",Buch!I2:J2) -> 0 | O2: =SUMIF(Buch!F2,"Kasse GBP",Buch!I2:J2) -> 0
A3: 2 | F3: Bank | G3: Eröffnung | H3: CHF | I3: 2367.95 | K3: =IF(H3="","",I3*VLOOKUP(H3,Kurse!$A$2:$B$5,2)) -> 2367.95 | L3: =IF(H3="","",J3*VLOOKUP(H3,Kurse!$A$2:$B$5,2)) -> 0 | M3: =SUM(K3:L3) -> 2367.95 | N3: =SUMIF(Buch!F3,"Kasse EUR",Buch!I3:J3) -> 0 | O3: =SUMIF(Buch!F3,"Kasse GBP",Buch!I3:J3) -> 0
A4: 3 | F4: Kasse CHF | G4: Eröffnung | H4: CHF | I4: 44.15 | K4: =IF(H4="","",I4*VLOOKUP(H4,Kurse!$A$2:$B$5,2)) -> 44.15 | L4: =IF(H4="","",J4*VLOOKUP(H4,Kurse!$A$2:$B$5,2)) -> 0 | M4: =SUM(K4:L4) -> 44.15 | N4: =SUMIF(Buch!F4,"Kasse EUR",Buch!I4:J4) -> 0 | O4: =SUMIF(Buch!F4,"Kasse GBP",Buch!I4:J4) -> 0
A5: 4 | F5: Kasse EUR | G5: Eröffnung | H5: EUR | I5: 17.35 | K5: =IF(H5="","",I5*VLOOKUP(H5,Kurse!$A$2:$B$5,2)) -> 24.29 | L5: =IF(H5="","",J5*VLOOKUP(H5,Kurse!$A$2:$B$5,2)) -> 0 | M5: =SUM(K5:L5) -> 24.29 | N5: =SUMIF(Buch!F5,"Kasse EUR",Buch!I5:J5) -> 17.35 | O5: =SUMIF(Buch!F5,"Kasse GBP",Buch!I5:J5) -> 0
A6: 5 | F6: Kasse GBP | G6: Eröffnung | H6: GBP | I6: 0 | K6: =IF(H6="","",I6*VLOOKUP(H6,Kurse!$A$2:$B$5,2)) -> 0 | L6: =IF(H6="","",J6*VLOOKUP(H6,Kurse!$A$2:$B$5,2)) -> 0 | M6: =SUM(K6:L6) -> 0 | N6: =SUMIF(Buch!F6,"Kasse EUR",Buch!I6:J6) -> 0 | O6: =SUMIF(Buch!F6,"Kasse GBP",Buch!I6:J6) -> 0
A7: 6 | B7: 4 | C7: 1 | D7: 2016 | E7: 200010 | F7: Kasse CHF | G7: Einkauf | H7: CHF | J7: -10.15 | K7: =IF(H7="","",I7*VLOOKUP(H7,Kurse!$A$2:$B$5,2)) -> 0 | L7: =IF(H7="","",J7*VLOOKUP(H7,Kurse!$A$2:$B$5,2)) -> -10.15 | M7: =SUM(K7:L7) -> -10.15 | N7: =SUMIF(Buch!F7,"Kasse EUR",Buch!I7:J7) -> 0 | O7: =SUMIF(Buch!F7,"Kasse GBP",Buch!I7:J7) -> 0
A8: 7 | B8: 8 | C8: 1 | D8: 2016 | E8: 200010 | F8: Bank | G8: Einkauf | H8: CHF | J8: -53.15 | K8: =IF(H8="","",I8*VLOOKUP(H8,Kurse!$A$2:$B$5,2)) -> 0 | L8: =IF(H8="","",J8*VLOOKUP(H8,Kurse!$A$2:$B$5,2)) -> -53.15 | M8: =SUM(K8:L8) -> -53.15 | N8: =SUMIF(Buch!F8,"Kasse EUR",Buch!I8:J8) -> 0 | O8: =SUMIF(Buch!F8,"Kasse GBP",Buch!I8:J8) -> 0
A9: 8 | B9: 8 | C9: 1 | D9: 2016 | E9: 200010 | F9: Kasse CHF | G9: Einkauf | H9: CHF | J9: -2.3 | K9: =IF(H9="","",I9*VLOOKUP(H9,Kurse!$A$2:$B$5,2)) -> 0 | L9: =IF(H9="","",J9*VLOOKUP(H9,Kurse!$A$2:$B$5,2)) -> -2.3 | M9: =SUM(K9:L9) -> -2.3 | N9: =SUMIF(Buch!F9,"Kasse EUR",Buch!I9:J9) -> 0 | O9: =SUMIF(Buch!F9,"Kasse GBP",Buch!I9:J9) -> 0
A10: 9 | B10: 11 | C10: 1 | D10: 2016 | F10: Bank | G10: Geld abgehoben | H10: CHF | J10: 50 | K10: =IF(H10="","",I10*VLOOKUP(H10,Kurse!$A$2:$B$5,2)) -> 0 | L10: =IF(H10="","",J10*VLOOKUP(H10,Kurse!$A$2:$B$5,2)) -> 50 | M10: =SUM(K10:L10) -> 50 | N10: =SUMIF(Buch!F10,"Kasse EUR",Buch!I10:J10) -> 0 | O10: =SUMIF(Buch!F10,"Kasse GBP",Buch!I10:J10) -> 0
A11: 10 | B11: 11 | C11: 1 | D11: 2016 | F11: Kasse CHF | G11: Geld abgehoben | H11: CHF | I11: 50 | K11: =IF(H11="","",I11*VLOOKUP(H11,Kurse!$A$2:$B$5,2)) -> 50 | L11: =IF(H11="","",J11*VLOOKUP(H11,Kurse!$A$2:$B$5,2)) -> 0 | M11: =SUM(K11:L11) -> 50 | N11: =SUMIF(Buch!F11,"Kasse EUR",Buch!I11:J11) -> 0 | O11: =SUMIF(Buch!F11,"Kasse GBP",Buch!I11:J11) -> 0
A12: 11 | B12: 9 | C12: 2 | D12: 2016 | F12: Bank | G12: Geld abgehoben | H12: CHF | J12: -302 | K12: =IF(H12="","",I12*VLOOKUP(H12,Kurse!$A$2:$B$5,2)) -> 0 | L12: =IF(H12="","",J12*VLOOKUP(H12,Kurse!$A$2:$B$5,2)) -> -302 | M12: =SUM(K12:L12) -> -302 | N12: =SUMIF(Buch!F12,"Kasse EUR",Buch!I12:J12) -> 0 | O12: =SUMIF(Buch!F12,"Kasse GBP",Buch!I12:J12) -> 0
A13: 12 | B13: 9 | C13: 2 | D13: 2016 | F13: Kasse GBP | G13: Geld abgehoben | H13: GBP | I13: 150 | K13: =IF(H13="","",I13*VLOOKUP(H13,Kurse!$A$2:$B$5,2)) -> 216 | L13: =IF(H13="","",J13*VLOOKUP(H13,Kurse!$A$2:$B$5,2)) -> 0 | M13: =SUM(K13:L13) -> 216 | N13: =SUMIF(Buch!F13,"Kasse EUR",Buch!I13:J13) -> 0 | O13: =SUMIF(Buch!F13,"Kasse GBP",Buch!I13:J13) -> 150
A14: 13 | B14: 11 | C14: 2 | D14: 2016 | E14: 903030 | F14: Kasse GBP | G14: Oyster Card | H14: GBP | J14: -15 | K14: =IF(H14="","",I14*VLOOKUP(H14,Kurse!$A$2:$B$5,2)) -> 0 | L14: =IF(H14="","",J14*VLOOKUP(H14,Kurse!$A$2:$B$5,2)) -> -21.6 | M14: =SUM(K14:L14) -> -21.6 | N14: =SUMIF(Buch!F14,"Kasse EUR",Buch!I14:J14) -> 0 | O14: =SUMIF(Buch!F14,"Kasse GBP",Buch!I14:J14) -> 0
A15: 14 | B15: 11 | C15: 2 | D15: 2016 | E15: 200010 | F15: Kasse GBP | G15: Essen | H15: GBP | J15: -30.05 | K15: =IF(H15="","",I15*VLOOKUP(H15,Kurse!$A$2:$B$5,2)) -> 0 | L15: =IF(H15="","",J15*VLOOKUP(H15,Kurse!$A$2:$B$5,2)) -> -43.272 | M15: =SUM(K15:L15) -> -43.272 | N15: =SUMIF(Buch!F15,"Kasse EUR",Buch!I15:J15) -> 0 | O15: =SUMIF(Buch!F15,"Kasse GBP",Buch!I15:J15) -> 0
A16: 15 | B16: 12 | C16: 2 | D16: 2016 | E16: 909999 | F16: Kasse GBP | G16: Souvenirs | H16: GBP | J16: -3.98 | K16: =IF(H16="","",I16*VLOOKUP(H16,Kurse!$A$2:$B$5,2)) -> 0 | L16: =IF(H16="","",J16*VLOOKUP(H16,Kurse!$A$2:$B$5,2)) -> -5.7312 | M16: =SUM(K16:L16) -> -5.7312 | N16: =SUMIF(Buch!F16,"Kasse EUR",Buch!I16:J16) -> 0 | O16: =SUMIF(Buch!F16,"Kasse GBP",Buch!I16:J16) -> 0
A17: 16 | B17: 24 | C17: 2 | D17: 2016 | E17: 200010 | F17: Bank | G17: Einkauf | H17: CHF | J17: -36.15 | K17: =IF(H17="","",I17*VLOOKUP(H17,Kurse!$A$2:$B$5,2)) -> 0 | L17: =IF(H17="","",J17*VLOOKUP(H17,Kurse!$A$2:$B$5,2)) -> -36.15 | M17: =SUM(K17:L17) -> -36.15 | N17: =SUMIF(Buch!F17,"Kasse EUR",Buch!I17:J17) -> 0 | O17: =SUMIF(Buch!F17,"Kasse GBP",Buch!I17:J17) -> 0
A18: 17 | B18: 27 | C18: 2 | D18: 2016 | E18: 904020 | F18: Kasse EUR | G18: Zeitung | H18: EUR | J18: -2.9 | K18: =IF(H18="","",I18*VLOOKUP(H18,Kurse!$A$2:$B$5,2)) -> 0 | L18: =IF(H18="","",J18*VLOOKUP(H18,Kurse!$A$2:$B$5,2)) -> -4.06 | M18: =SUM(K18:L18) -> -4.06 | N18: =SUMIF(Buch!F18,"Kasse EUR",Buch!I18:J18) -> 0 | O18: =SUMIF(Buch!F18,"Kasse GBP",Buch!I18:J18) -> 0
K19: =IF(H19="","",I19*VLOOKUP(H19,Kurse!$A$2:$B$5,2)) | L19: =IF(H19="","",J19*VLOOKUP(H19,Kurse!$A$2:$B$5,2)) | M19: =SUM(K19:L19) -> 0 | N19: =SUMIF(Buch!F19,"Kasse EUR",Buch!I19:J19) -> 0 | O19: =SUMIF(Buch!F19,"Kasse GBP",Buch!I19:J19) -> 0
K20: =IF(H20="","",I20*VLOOKUP(H20,Kurse!$A$2:$B$5,2)) | L20: =IF(H20="","",J20*VLOOKUP(H20,Kurse!$A$2:$B$5,2)) | M20: =SUM(K20:L20) -> 0 | N20: =SUMIF(Buch!F20,"Kasse EUR",Buch!I20:J20) -> 0 | O20: =SUMIF(Buch!F20,"Kasse GBP",Buch!I20:J20) -> 0
K21: =IF(H21="","",I21*VLOOKUP(H21,Kurse!$A$2:$B$5,2)) | L21: =IF(H21="","",J21*VLOOKUP(H21,Kurse!$A$2:$B$5,2)) | M21: =SUM(K21:L21) -> 0 | N21: =SUMIF(Buch!F21,"Kasse EUR",Buch!I21:J21) -> 0 | O21: =SUMIF(Buch!F21,"Kasse GBP",Buch!I21:J21) -> 0
K22: =IF(H22="","",I22*VLOOKUP(H22,Kurse!$A$2:$B$5,2)) | L22: =IF(H22="","",J22*VLOOKUP(H22,Kurse!$A$2:$B$5,2)) | M22: =SUM(K22:L22) -> 0 | N22: =SUMIF(Buch!F22,"Kasse EUR",Buch!I22:J22) -> 0 | O22: =SUMIF(Buch!F22,"Kasse GBP",Buch!I22:J22) -> 0
K23: =IF(H23="","",I23*VLOOKUP(H23,Kurse!$A$2:$B$5,2)) | L23: =IF(H23="","",J23*VLOOKUP(H23,Kurse!$A$2:$B$5,2)) | M23: =SUM(K23:L23) -> 0 | N23: =SUMIF(Buch!F23,"Kasse EUR",Buch!I23:J23) -> 0 | O23: =SUMIF(Buch!F23,"Kasse GBP",Buch!I23:J23) -> 0
K24: =IF(H24="","",I24*VLOOKUP(H24,Kurse!$A$2:$B$5,2)) | L24: =IF(H24="","",J24*VLOOKUP(H24,Kurse!$A$2:$B$5,2)) | M24: =SUM(K24:L24) -> 0 | N24: =SUMIF(Buch!F24,"Kasse EUR",Buch!I24:J24) -> 0 | O24: =SUMIF(Buch!F24,"Kasse GBP",Buch!I24:J24) -> 0
K25: =IF(H25="","",I25*VLOOKUP(H25,Kurse!$A$2:$B$5,2)) | L25: =IF(H25="","",J25*VLOOKUP(H25,Kurse!$A$2:$B$5,2))
K26: =IF(H26="","",I26*VLOOKUP(H26,Kurse!$A$2:$B$5,2)) | L26: =IF(H26="","",J26*VLOOKUP(H26,Kurse!$A$2:$B$5,2))
K27: =IF(H27="","",I27*VLOOKUP(H27,Kurse!$A$2:$B$5,2)) | L27: =IF(H27="","",J27*VLOOKUP(H27,Kurse!$A$2:$B$5,2))
K28: =IF(H28="","",I28*VLOOKUP(H28,Kurse!$A$2:$B$5,2)) | L28: =IF(H28="","",J28*VLOOKUP(H28,Kurse!$A$2:$B$5,2))
K29: =IF(H29="","",I29*VLOOKUP(H29,Kurse!$A$2:$B$5,2)) | L29: =IF(H29="","",J29*VLOOKUP(H29,Kurse!$A$2:$B$5,2))
K30: =IF(H30="","",I30*VLOOKUP(H30,Kurse!$A$2:$B$5,2)) | L30: =IF(H30="","",J30*VLOOKUP(H30,Kurse!$A$2:$B$5,2))
K31: =IF(H31="","",I31*VLOOKUP(H31,Kurse!$A$2:$B$5,2)) | L31: =IF(H31="","",J31*VLOOKUP(H31,Kurse!$A$2:$B$5,2))
K32: =IF(H32="","",I32*VLOOKUP(H32,Kurse!$A$2:$B$5,2)) | L32: =IF(H32="","",J32*VLOOKUP(H32,Kurse!$A$2:$B$5,2))
K33: =IF(H33="","",I33*VLOOKUP(H33,Kurse!$A$2:$B$5,2)) | L33: =IF(H33="","",J33*VLOOKUP(H33,Kurse!$A$2:$B$5,2))
K34: =IF(H34="","",I34*VLOOKUP(H34,Kurse!$A$2:$B$5,2)) | L34: =IF(H34="","",J34*VLOOKUP(H34,Kurse!$A$2:$B$5,2))
K35: =IF(H35="","",I35*VLOOKUP(H35,Kurse!$A$2:$B$5,2)) | L35: =IF(H35="","",J35*VLOOKUP(H35,Kurse!$A$2:$B$5,2))
K36: =IF(H36="","",I36*VLOOKUP(H36,Kurse!$A$2:$B$5,2)) | L36: =IF(H36="","",J36*VLOOKUP(H36,Kurse!$A$2:$B$5,2))
... K994: =IF(H994="","",I994*VLOOKUP(H994,Kurse!$A$2:$B$5,2)) | L994: =IF(H994="","",J994*VLOOKUP(H994,Kurse!$A$2:$B$5,2))
K995: =IF(H995="","",I995*VLOOKUP(H995,Kurse!$A$2:$B$5,2)) | L995: =IF(E916="","",C916&IF(K916<=0,"minus","plus"))
K996: =IF(H996="","",I996*VLOOKUP(H996,Kurse!$A$2:$B$5,2)) | L996: =IF(E917="","",C917&IF(K917<=0,"minus","plus"))
K997: =IF(H997="","",I997*VLOOKUP(H997,Kurse!$A$2:$B$5,2)) | L997: =IF(E918="","",C918&IF(K918<=0,"minus","plus"))
...

Sheet Ausgaben
A1: Code | B1: Code full | C1: Ausgaben 2016
A2: 100000 | B2: Einnahmen | C2: =SUM(C3:C5) -> 0
A3: 100010 | B3: Lohn | C3: =SUMIF(Buch!E$1:E$519,"100010",Buch!K$1:K$519) -> 0
A4: 100020 | B4: Nebeneinnahmen | C4: =SUMIF(Buch!E$1:E$519,"100020",Buch!K$1:K$519) -> 0
A5: 100040 | B5: Zinsen | C5: =SUMIF(Buch!E$1:E$519,"100040",Buch!M$1:M$17) -> 0
A6: 200000 | B6: Lebensmittel | C6: =SUM(C7:C9) -> -145.022
A7: 200010 | B7: Supermarkt | C7: =SUMIF(Buch!E$1:E$519,"200010",Buch!M$1:M$17) -> -145.022
A8: 200020 | B8: Restaurant Privat | C8: =SUMIF(Buch!E$1:E$519,"200020",Buch!M$1:M$17) -> 0
A9: 200030 | B9: Restaurant Geschäftsessen | C9: =SUMIF(Buch!E$1:E$519,"200030",Buch!M$1:M$17) -> 0
A10: 300000 | B10: Kleidung | C10: =SUM(C11:C13) -> 0
A11: 300010 | B11: Schuhe | C11: =SUMIF(Buch!E$1:E$519,"300010",Buch!M$1:M$17) -> 0
A12: 300020 | B12: Kleidung | C12: =SUMIF(Buch!E$1:E$519,"300020",Buch!M$1:M$17) -> 0
A13: 300030 | B13: Accessoirs | C13: =SUMIF(Buch!E$1:E$519,"300030",Buch!M$1:M$17) -> 0
A14: 400000 | B14: Wohnen | C14: =SUM(C15:C17) -> 0
A15: 400010 | B15: Miete | C15: =SUMIF(Buch!E$1:E$519,"400010",Buch!M$1:M$17) -> 0
A16: 400020 | B16: Einrichtung | C16: =SUMIF(Buch!E$1:E$519,"400020",Buch!M$1:M$17) -> 0
A17: 400030 | B17: Strom, Heizung | C17: =SUMIF(Buch!E$1:E$519,"400030",Buch!M$1:M$17) -> 0
A18: 500000 | B18: Versicherungen | C18: =SUM(C19:C21) -> 0
A19: 500010 | B19: Hausratversicherung | C19: =SUMIF(Buch!E$1:E$519,"500010",Buch!M$1:M$17) -> 0
A20: 500020 | B20: Haftpflichtversicherung | C20: =SUMIF(Buch!E$1:E$519,"500020",Buch!M$1:M$17) -> 0
A21: 500030 | B21: Krankenkasse | C21: =SUMIF(Buch!E$1:E$519,"500030",Buch!M$1:M$17) -> 0
A22: 600000 | B22: Steuern | C22: =SUM(C23:C23) -> 0
A23: 600010 | B23: Steuern | C23: =SUMIF(Buch!E$1:E$519,"600010",Buch!M$1:M$17) -> 0
A24: 900000 | B24: Freizeit / Verschiedenes | C24: =SUM(C25,C29,C33,C37) -> -25.66
A25: 902000 | B25: Kommunikation | C25: =SUM(C26:C28) -> 0
A26: 902010 | B26: Mobiltelefon | C26: =SUMIF(Buch!E$1:E$519,"902010",Buch!M$1:M$17) -> 0
A27: 902020 | B27: Internet | C27: =SUMIF(Buch!E$1:E$519,"902020",Buch!M$1:M$17) -> 0
A28: 902030 | B28: Portokosten | C28: =SUMIF(Buch!E$1:E$519,"902030",Buch!M$1:M$17) -> 0
A29: 903000 | B29: Mobilität | C29: =SUM(C30:C32) -> -21.6
A30: 903010 | B30: Öffentlicher Verkehr Lokal | C30: =SUMIF(Buch!E$1:E$519,"903010",Buch!M$1:M$17) -> 0
A31: 903020 | B31: Öffentlicher Verkehr National | C31: =SUMIF(Buch!E$1:E$519,"903020",Buch!M$1:M$17) -> 0
A32: 903030 | B32: Öffentlicher Verkehr International | C32: =SUMIF(Buch!E$1:E$519,"903030",Buch!M$1:M$17) -> -21.6
A33: 904000 | B33: Freizeit | C33: =SUM(C34:C36) -> -4.06
A34: 904010 | B34: Kino, Theater, Museum | C34: =SUMIF(Buch!E$1:E$519,"904010",Buch!M$1:M$17) -> 0
A35: 904020 | B35: Bücher, Zeitungen, Zeitschriften | C35: =SUMIF(Buch!E$1:E$519,"904020",Buch!M$1:M$17) -> -4.06
A36: 904080 | B36: Ferien | C36: =SUMIF(Buch!E$1:E$519,"904080",Buch!M$1:M$17) -> 0
A37: 909000 | B37: Verschiedenes | C37: =SUM(C38:C38) -> 0
A38: 909010 | B38: Geschenke | C38: =SUMIF(Buch!E$1:E$519,"909010",Buch!M$1:M$17) -> 0

Sheet Monatsabschluss
A1: Monat | B1: Ein | C1: Aus | D1: Differenz
A2: Januar | B2: =SUMIF(Buch!C2:C59877,1,Buch!I2:I59877) -> 50 | C2: =SUMIF(Buch!C2:C59877,1,Buch!J2:J59877) -> -15.6 | D2: =SUM(B2:C2) -> 34.4
A3: Februar | B3: =SUMIF(Buch!L$64562:L$64568,"2plus",Buch!K$64562:K$64568) -> 0 | C3: =SUMIF(Buch!L$64562:L$64568,"2minus",Buch!K$64562:K$64568) -> 0 | D3: =SUMIF(Buch!C$64562:C$64568,2,Buch!K$64562:K$64568) -> 0
A4: März | B4: =SUMIF(Buch!L$64562:L$64568,"3plus",Buch!K$64562:K$64568) -> 0 | C4: =SUMIF(Buch!L$64562:L$64568,"3minus",Buch!K$64562:K$64568) -> 0 | D4: =SUMIF(Buch!C$64562:C$64568,3,Buch!K$64562:K$64568) -> 0
A5: April | B5: =SUMIF(Buch!L$64562:L$64568,"4plus",Buch!K$64562:K$64568) -> 0 | C5: =SUMIF(Buch!L$64562:L$64568,"4minus",Buch!K$64562:K$64568) -> 0 | D5: =SUMIF(Buch!C$64562:C$64568,4,Buch!K$64562:K$64568) -> 0
A6: Mai | B6: =SUMIF(Buch!L$64562:L$64568,"5plus",Buch!K$64562:K$64568) -> 0 | C6: =SUMIF(Buch!L$64562:L$64568,"5minus",Buch!K$64562:K$64568) -> 0 | D6: =SUMIF(Buch!C$64562:C$64568,5,Buch!K$64562:K$64568) -> 0
A7: Juni | B7: =SUMIF(Buch!L$64562:L$64568,"6plus",Buch!K$64562:K$64568) -> 0 | C7: =SUMIF(Buch!L$64562:L$64568,"6minus",Buch!K$64562:K$64568) -> 0 | D7: =SUMIF(Buch!C$64562:C$64568,6,Buch!K$64562:K$64568) -> 0
A8: Juli | B8: =SUMIF(Buch!L$64562:L$64568,"7plus",Buch!K$64562:K$64568) -> 0 | C8: =SUMIF(Buch!L$64562:L$64568,"7minus",Buch!K$64562:K$64568) -> 0 | D8: =SUMIF(Buch!C$64562:C$64568,7,Buch!K$64562:K$64568) -> 0
A9: August | B9: =SUMIF(Buch!L$64562:L$64568,"8plus",Buch!K$64562:K$64568) -> 0 | C9: =SUMIF(Buch!L$64562:L$64568,"8minus",Buch!K$64562:K$64568) -> 0 | D9: =SUMIF(Buch!C$64562:C$64568,8,Buch!K$64562:K$64568) -> 0
A10: September | B10: =SUMIF(Buch!L$64562:L$64568,"9plus",Buch!K$64562:K$64568) -> 0 | C10: =SUMIF(Buch!L$64562:L$64568,"9minus",Buch!K$64562:K$64568) -> 0 | D10: =SUMIF(Buch!C$64562:C$64568,9,Buch!K$64562:K$64568) -> 0
A11: Oktober | B11: =SUMIF(Buch!L$64562:L$64568,"10plus",Buch!K$64562:K$64568) -> 0 | C11: =SUMIF(Buch!L$64562:L$64568,"10minus",Buch!K$64562:K$64568) -> 0 | D11: =SUMIF(Buch!C$64562:C$64568,10,Buch!K$64562:K$64568) -> 0
A12: November | B12: =SUMIF(Buch!L$64562:L$64568,"11plus",Buch!K$64562:K$64568) -> 0 | C12: =SUMIF(Buch!L$64562:L$64568,"11minus",Buch!K$64562:K$64568) -> 0 | D12: =SUMIF(Buch!C$64562:C$64568,11,Buch!K$64562:K$64568) -> 0
A13: Dezember | B13: =SUMIF(Buch!L$64562:L$64568,"12plus",Buch!K$64562:K$64568) -> 0 | C13: =SUMIF(Buch!L$64562:L$64568,"12minus",Buch!K$64562:K$64568) -> 0 | D13: =SUMIF(Buch!C$64562:C$64568,12,Buch!K$64562:K$64568) -> 0

Sheet Kurse
A1: Code | B1: Kurs
A2: CHF | B2: 1
A3: EUR | B3: 1.4
A4: GBP | B4: 1.44
A5: USD | B5: 1
