Workbook
Name Kategorisierung: Tabelle4!$A:$A
Name Klassifikation: Tabelle2!$A:$A
Name laender: #REF!
Name laenderkomplett: Tabelle3!$A:$A
Name Landliste: Tabelle3!$A$1:$A$256
Name test: #REF!

Sheet Tabelle1
B1: Hinweise zur Benutzung: 1. Die rote Spalte dient nur der chronologischen Sortierung (aufwärts und abwärts). 2. Die rote Zeile dient dem Setzen von Filtern. 3. Zeitangaben gemäß folgender Syntax: "TT.MM.JJJJ" 4. Ein unvollständiges Datum in Spalte B ist durch Nullen zu ergänzen: "00.MM.JJJJ" 5. Dies gilt nicht für das zweite Datum in Spalte C. Hier ist nur: "MM.JJJJ." anzugeben.
B2: Von | C2: Bis | D2: Dauer | I2: Zeitspanne | J2: Betroffene Jahrhunderte | L2: Epoche zu Beginn des Ereignisses (Bezeichnungen gemäß Mittelmeeraum / Europa) | M2: Anzahl Personen (circa) | N2: Auswahl des Landes | O2: Klassifikation | P2: Kategorisierung | Q2: Beschreibung | R2: Abweichungen - (In Klammern direkt die Quelle(n) setzen!) | S2: Unselbständig erschienene Quellen (z. B. Zeitschriftenartikel): Name, Vorname: „Titel. Untertitel". In: Name, Vorname (Hg.): Titel. Untertitel. Auflage. Verlagsort: Verlag, Jahreszahl (= Reihe). Seitenangabe. Selbständig erschienene Quellen (z. B. Bücher): Name, Vorname: Titel. Untertitel. Auflage. Verlagsort: Verlag, Jahreszahl (= Reihe). Seitenangabe.
B3: EINGABE | C3: EINGABE | M3: EINGABE | N3: EINGABE | O3: EINGABE | P3: EINGABE | Q3: EINGABE | R3: EINGABE | S3: EINGABE
D4: Jahr/e | E4: Monat/e | F4: Tag/en | J4: Von | K4: Bis | M4: Kein Pflichtfeld | N4: Klicken für Auswahlliste | O4: Klicken für Auswahlliste | P4: Klicken für Auswahlliste | Q4: (wenn möglich folgende W-Fragen beantworten: 1) Wer 2)Was 3)Wie 4)Warum) | S4: Syntax wie oben dargestellt einheitlich einhalten!
A6: =DATE(RIGHT(TEXT(B6,"TT.MM.JJJJ"),4)+4000,MID(TEXT(B6,"TT.MM.JJJJ"),4,2),LEFT(TEXT(B6,"TT.MM.JJJJ"),2)) -> 1460971 | B6: 31.12.1899 | C6: 05.10.1902 | D6: =DATEDIF(G6,H6,"Y") -> 2 | E6: =DATEDIF(G6,H6,"YM") -> 9 | F6: =DATEDIF(G6,H6,"MD") -> 4 | G6: =IF(OR(LEN(B6)<8,LEN(C6)<8),"01.",LEFT(B6,SEARCH(".",C6)))&IF(OR(LEN(B6)<5,LEN(C6)<5),"01.",IF(LEN(B6)<8,LEFT(B6,SEARCH(".",B6)),MID(B6,SEARCH(".",B6)+1,SEARCH(".",B6,4)-SEARCH(".",B6))))&RIGHT(B6,4)+2000 -> 31.12.3899 | H6: =IF(OR(LEN(B6)<8,LEN(C6)<8),"01.",LEFT(C6,SEARCH(".",C6)))&IF(OR(LEN(B6)<5,LEN(C6)<5),"01.",IF(LEN(C6)<8,LEFT(C6,SEARCH(".",C6)),MID(C6,SEARCH(".",C6)+1,SEARCH(".",C6,4)-SEARCH(".",C6))))&RIGHT(C6,4)+2000 -> 05.10.3902 | I6: =IF(D6+E6+F6=0,"Zeitpunkt", "Zeitraum") -> Zeitraum | J6: =VLOOKUP(VALUE(RIGHT(B6,4)),Tabelle5!$K$22:$L$42,2,TRUE) -> 19. JH | K6: =VLOOKUP(VALUE(RIGHT(C6,4)),Tabelle5!$K$32:$L$42,2,TRUE) -> 20. JH | L6: =VLOOKUP(VALUE(RIGHT(B6,4)),Tabelle5!$M$22:$N$42,2,TRUE) -> Neuzeit
A7: =DATE(RIGHT(TEXT(B7,"TT.MM.JJJJ"),4)+4000,MID(TEXT(B7,"TT.MM.JJJJ"),4,2),LEFT(TEXT(B7,"TT.MM.JJJJ"),2)) -> 1460794 | B7: 07.07.1899 | C7: 09.07.1901 | D7: =DATEDIF(G7,H7,"Y") -> 2 | E7: =DATEDIF(G7,H7,"YM") -> 0 | F7: =DATEDIF(G7,H7,"MD") -> 2 | G7: =IF(OR(LEN(B7)<8,LEN(C7)<8),"01.",LEFT(B7,SEARCH(".",C7)))&IF(OR(LEN(B7)<5,LEN(C7)<5),"01.",IF(LEN(B7)<8,LEFT(B7,SEARCH(".",B7)),MID(B7,SEARCH(".",B7)+1,SEARCH(".",B7,4)-SEARCH(".",B7))))&RIGHT(B7,4)+2000 -> 07.07.3899 | H7: =IF(OR(LEN(B7)<8,LEN(C7)<8),"01.",LEFT(C7,SEARCH(".",C7)))&IF(OR(LEN(B7)<5,LEN(C7)<5),"01.",IF(LEN(C7)<8,LEFT(C7,SEARCH(".",C7)),MID(C7,SEARCH(".",C7)+1,SEARCH(".",C7,4)-SEARCH(".",C7))))&RIGHT(C7,4)+2000 -> 09.07.3901 | I7: =IF(D7+E7+F7=0,"Zeitpunkt", "Zeitraum") -> Zeitraum | J7: =VLOOKUP(VALUE(RIGHT(B7,4)),Tabelle5!$K$22:$L$42,2,TRUE) -> 19. JH | K7: =VLOOKUP(VALUE(RIGHT(C7,4)),Tabelle5!$K$32:$L$42,2,TRUE) -> 20. JH | L7: =VLOOKUP(VALUE(RIGHT(B7,4)),Tabelle5!$M$22:$N$42,2,TRUE) -> Neuzeit
A8: =DATE(RIGHT(TEXT(B8,"TT.MM.JJJJ"),4)+4000,MID(TEXT(B8,"TT.MM.JJJJ"),4,2),LEFT(TEXT(B8,"TT.MM.JJJJ"),2)) -> 1448739 | B8: 05.07.1866 | C8: 19.07.1866 | D8: =DATEDIF(G8,H8,"Y") -> 0 | E8: =DATEDIF(G8,H8,"YM") -> 0 | F8: =DATEDIF(G8,H8,"MD") -> 14 | G8: =IF(OR(LEN(B8)<8,LEN(C8)<8),"01.",LEFT(B8,SEARCH(".",C8)))&IF(OR(LEN(B8)<5,LEN(C8)<5),"01.",IF(LEN(B8)<8,LEFT(B8,SEARCH(".",B8)),MID(B8,SEARCH(".",B8)+1,SEARCH(".",B8,4)-SEARCH(".",B8))))&RIGHT(B8,4)+2000 -> 05.07.3866 | H8: =IF(OR(LEN(B8)<8,LEN(C8)<8),"01.",LEFT(C8,SEARCH(".",C8)))&IF(OR(LEN(B8)<5,LEN(C8)<5),"01.",IF(LEN(C8)<8,LEFT(C8,SEARCH(".",C8)),MID(C8,SEARCH(".",C8)+1,SEARCH(".",C8,4)-SEARCH(".",C8))))&RIGHT(C8,4)+2000 -> 19.07.3866 | I8: =IF(D8+E8+F8=0,"Zeitpunkt", "Zeitraum") -> Zeitraum | J8: =VLOOKUP(VALUE(RIGHT(B8,4)),Tabelle5!$K$22:$L$42,2,TRUE) -> 19. JH | K8: =VLOOKUP(VALUE(RIGHT(C8,4)),Tabelle5!$K$32:$L$42,2,TRUE) -> 19. JH | L8: =VLOOKUP(VALUE(RIGHT(B8,4)),Tabelle5!$M$22:$N$42,2,TRUE) -> Neuzeit
A9: =DATE(RIGHT(TEXT(B9,"TT.MM.JJJJ"),4)+4000,MID(TEXT(B9,"TT.MM.JJJJ"),4,2),LEFT(TEXT(B9,"TT.MM.JJJJ"),2)) -> 1448739 | B9: 05.07.1866 | C9: 19.07.1867 | D9: =DATEDIF(G9,H9,"Y") -> 1 | E9: =DATEDIF(G9,H9,"YM") -> 0 | F9: =DATEDIF(G9,H9,"MD") -> 14 | G9: =IF(OR(LEN(B9)<8,LEN(C9)<8),"01.",LEFT(B9,SEARCH(".",C9)))&IF(OR(LEN(B9)<5,LEN(C9)<5),"01.",IF(LEN(B9)<8,LEFT(B9,SEARCH(".",B9)),MID(B9,SEARCH(".",B9)+1,SEARCH(".",B9,4)-SEARCH(".",B9))))&RIGHT(B9,4)+2000 -> 05.07.3866 | H9: =IF(OR(LEN(B9)<8,LEN(C9)<8),"01.",LEFT(C9,SEARCH(".",C9)))&IF(OR(LEN(B9)<5,LEN(C9)<5),"01.",IF(LEN(C9)<8,LEFT(C9,SEARCH(".",C9)),MID(C9,SEARCH(".",C9)+1,SEARCH(".",C9,4)-SEARCH(".",C9))))&RIGHT(C9,4)+2000 -> 19.07.3867 | I9: =IF(D9+E9+F9=0,"Zeitpunkt", "Zeitraum") -> Zeitraum | J9: =VLOOKUP(VALUE(RIGHT(B9,4)),Tabelle5!$K$22:$L$42,2,TRUE) -> 19. JH | K9: =VLOOKUP(VALUE(RIGHT(C9,4)),Tabelle5!$K$32:$L$42,2,TRUE) -> 19. JH | L9: =VLOOKUP(VALUE(RIGHT(B9,4)),Tabelle5!$M$22:$N$42,2,TRUE) -> Neuzeit
A10: =DATE(RIGHT(TEXT(B10,"TT.MM.JJJJ"),4)+4000,MID(TEXT(B10,"TT.MM.JJJJ"),4,2),LEFT(TEXT(B10,"TT.MM.JJJJ"),2)) -> 1448739 | B10: 05.07.1866 | C10: 19.10.1867 | D10: =DATEDIF(G10,H10,"Y") -> 1 | E10: =DATEDIF(G10,H10,"YM") -> 3 | F10: =DATEDIF(G10,H10,"MD") -> 14 | G10: =IF(OR(LEN(B10)<8,LEN(C10)<8),"01.",LEFT(B10,SEARCH(".",C10)))&IF(OR(LEN(B10)<5,LEN(C10)<5),"01.",IF(LEN(B10)<8,LEFT(B10,SEARCH(".",B10)),MID(B10,SEARCH(".",B10)+1,SEARCH(".",B10,4)-SEARCH(".",B10))))&RIGHT(B10,4)+2000 -> 05.07.3866 | H10: =IF(OR(LEN(B10)<8,LEN(C10)<8),"01.",LEFT(C10,SEARCH(".",C10)))&IF(OR(LEN(B10)<5,LEN(C10)<5),"01.",IF(LEN(C10)<8,LEFT(C10,SEARCH(".",C10)),MID(C10,SEARCH(".",C10)+1,SEARCH(".",C10,4)-SEARCH(".",C10))))&RIGHT(C10,4)+2000 -> 19.10.3867 | I10: =IF(D10+E10+F10=0,"Zeitpunkt", "Zeitraum") -> Zeitraum | J10: =VLOOKUP(VALUE(RIGHT(B10,4)),Tabelle5!$K$22:$L$42,2,TRUE) -> 19. JH | K10: =VLOOKUP(VALUE(RIGHT(C10,4)),Tabelle5!$K$32:$L$42,2,TRUE) -> 19. JH | L10: =VLOOKUP(VALUE(RIGHT(B10,4)),Tabelle5!$M$22:$N$42,2,TRUE) -> Neuzeit
A11: =DATE(RIGHT(TEXT(B11,"TT.MM.JJJJ"),4)+4000,MID(TEXT(B11,"TT.MM.JJJJ"),4,2),LEFT(TEXT(B11,"TT.MM.JJJJ"),2)) -> 1432057 | B11: 01.11.1820 | C11: 02.11.1821 | D11: =DATEDIF(G11,H11,"Y") -> 1 | E11: =DATEDIF(G11,H11,"YM") -> 0 | F11: =DATEDIF(G11,H11,"MD") -> 1 | G11: =IF(OR(LEN(B11)<8,LEN(C11)<8),"01.",LEFT(B11,SEARCH(".",C11)))&IF(OR(LEN(B11)<5,LEN(C11)<5),"01.",IF(LEN(B11)<8,LEFT(B11,SEARCH(".",B11)),MID(B11,SEARCH(".",B11)+1,SEARCH(".",B11,4)-SEARCH(".",B11))))&RIGHT(B11,4)+2000 -> 01.11.3820 | H11: =IF(OR(LEN(B11)<8,LEN(C11)<8),"01.",LEFT(C11,SEARCH(".",C11)))&IF(OR(LEN(B11)<5,LEN(C11)<5),"01.",IF(LEN(C11)<8,LEFT(C11,SEARCH(".",C11)),MID(C11,SEARCH(".",C11)+1,SEARCH(".",C11,4)-SEARCH(".",C11))))&RIGHT(C11,4)+2000 -> 02.11.3821 | I11: =IF(D11+E11+F11=0,"Zeitpunkt", "Zeitraum") -> Zeitraum | J11: =VLOOKUP(VALUE(RIGHT(B11,4)),Tabelle5!$K$22:$L$42,2,TRUE) -> 19. JH | K11: =VLOOKUP(VALUE(RIGHT(C11,4)),Tabelle5!$K$32:$L$42,2,TRUE) -> 19. JH | L11: =VLOOKUP(VALUE(RIGHT(B11,4)),Tabelle5!$M$22:$N$42,2,TRUE) -> Neuzeit | M11: 8 | N11: Weihnachtsinsel | O11: Unternehmen / Einrichtung / Institution | P11: Volk bzw. Gesellschaft ohne Staat / ohne instiutionellen Herrschaftsstrukturen / ohne Verfassung / flache Hierarchien
A12: =DATE(RIGHT(TEXT(B12,"TT.MM.JJJJ"),4)+4000,MID(TEXT(B12,"TT.MM.JJJJ"),4,2),LEFT(TEXT(B12,"TT.MM.JJJJ"),2)) -> 1424666 | B12: 07.08.1800 | C12: 07.08.1800 | D12: =DATEDIF(G12,H12,"Y") -> 0 | E12: =DATEDIF(G12,H12,"YM") -> 0 | F12: =DATEDIF(G12,H12,"MD") -> 0 | G12: =IF(OR(LEN(B12)<8,LEN(C12)<8),"01.",LEFT(B12,SEARCH(".",C12)))&IF(OR(LEN(B12)<5,LEN(C12)<5),"01.",IF(LEN(B12)<8,LEFT(B12,SEARCH(".",B12)),MID(B12,SEARCH(".",B12)+1,SEARCH(".",B12,4)-SEARCH(".",B12))))&RIGHT(B12,4)+2000 -> 07.08.3800 | H12: =IF(OR(LEN(B12)<8,LEN(C12)<8),"01.",LEFT(C12,SEARCH(".",C12)))&IF(OR(LEN(B12)<5,LEN(C12)<5),"01.",IF(LEN(C12)<8,LEFT(C12,SEARCH(".",C12)),MID(C12,SEARCH(".",C12)+1,SEARCH(".",C12,4)-SEARCH(".",C12))))&RIGHT(C12,4)+2000 -> 07.08.3800 | I12: =IF(D12+E12+F12=0,"Zeitpunkt", "Zeitraum") -> Zeitpunkt | J12: =VLOOKUP(VALUE(RIGHT(B12,4)),Tabelle5!$K$22:$L$42,2,TRUE) -> 18. JH | K12: =VLOOKUP(VALUE(RIGHT(C12,4)),Tabelle5!$K$32:$L$42,2,TRUE) -> 18. JH | L12: =VLOOKUP(VALUE(RIGHT(B12,4)),Tabelle5!$M$22:$N$42,2,TRUE) -> Beginn der Moderne in Europa
A13: =DATE(RIGHT(TEXT(B13,"TT.MM.JJJJ"),4)+4000,MID(TEXT(B13,"TT.MM.JJJJ"),4,2),LEFT(TEXT(B13,"TT.MM.JJJJ"),2)) -> 1412215 | B13: 05.07.1766 | C13: 19.07.1766 | D13: =DATEDIF(G13,H13,"Y") -> 0 | E13: =DATEDIF(G13,H13,"YM") -> 0 | F13: =DATEDIF(G13,H13,"MD") -> 14 | G13: =IF(OR(LEN(B13)<8,LEN(C13)<8),"01.",LEFT(B13,SEARCH(".",C13)))&IF(OR(LEN(B13)<5,LEN(C13)<5),"01.",IF(LEN(B13)<8,LEFT(B13,SEARCH(".",B13)),MID(B13,SEARCH(".",B13)+1,SEARCH(".",B13,4)-SEARCH(".",B13))))&RIGHT(B13,4)+2000 -> 05.07.3766 | H13: =IF(OR(LEN(B13)<8,LEN(C13)<8),"01.",LEFT(C13,SEARCH(".",C13)))&IF(OR(LEN(B13)<5,LEN(C13)<5),"01.",IF(LEN(C13)<8,LEFT(C13,SEARCH(".",C13)),MID(C13,SEARCH(".",C13)+1,SEARCH(".",C13,4)-SEARCH(".",C13))))&RIGHT(C13,4)+2000 -> 19.07.3766 | I13: =IF(D13+E13+F13=0,"Zeitpunkt", "Zeitraum") -> Zeitraum | J13: =VLOOKUP(VALUE(RIGHT(B13,4)),Tabelle5!$K$22:$L$42,2,TRUE) -> 18. JH | K13: =VLOOKUP(VALUE(RIGHT(C13,4)),Tabelle5!$K$32:$L$42,2,TRUE) -> 18. JH | L13: =VLOOKUP(VALUE(RIGHT(B13,4)),Tabelle5!$M$22:$N$42,2,TRUE) -> Beginn der Moderne in Europa
A14: =DATE(RIGHT(TEXT(B14,"TT.MM.JJJJ"),4)+4000,MID(TEXT(B14,"TT.MM.JJJJ"),4,2),LEFT(TEXT(B14,"TT.MM.JJJJ"),2)) -> 1387924 | B14: 01.01.1700 | C14: 01.02.1805 | D14: =DATEDIF(G14,H14,"Y") -> 105 | E14: =DATEDIF(G14,H14,"YM") -> 1 | F14: =DATEDIF(G14,H14,"MD") -> 0 | G14: =IF(OR(LEN(B14)<8,LEN(C14)<8),"01.",LEFT(B14,SEARCH(".",C14)))&IF(OR(LEN(B14)<5,LEN(C14)<5),"01.",IF(LEN(B14)<8,LEFT(B14,SEARCH(".",B14)),MID(B14,SEARCH(".",B14)+1,SEARCH(".",B14,4)-SEARCH(".",B14))))&RIGHT(B14,4)+2000 -> 01.01.3700 | H14: =IF(OR(LEN(B14)<8,LEN(C14)<8),"01.",LEFT(C14,SEARCH(".",C14)))&IF(OR(LEN(B14)<5,LEN(C14)<5),"01.",IF(LEN(C14)<8,LEFT(C14,SEARCH(".",C14)),MID(C14,SEARCH(".",C14)+1,SEARCH(".",C14,4)-SEARCH(".",C14))))&RIGHT(C14,4)+2000 -> 01.02.3805 | I14: =IF(D14+E14+F14=0,"Zeitpunkt", "Zeitraum") -> Zeitraum | J14: =VLOOKUP(VALUE(RIGHT(B14,4)),Tabelle5!$K$22:$L$42,2,TRUE) -> 17. JH | K14: =VLOOKUP(VALUE(RIGHT(C14,4)),Tabelle5!$K$32:$L$42,2,TRUE) -> 19. JH | L14: =VLOOKUP(VALUE(RIGHT(B14,4)),Tabelle5!$M$22:$N$42,2,TRUE) -> Frühe Neuzeit
A15: =DATE(RIGHT(TEXT(B15,"TT.MM.JJJJ"),4)+4000,MID(TEXT(B15,"TT.MM.JJJJ"),4,2),LEFT(TEXT(B15,"TT.MM.JJJJ"),2)) -> 1375662 | B15: 06.06.1666 | C15: 06.06.1666 | D15: =DATEDIF(G15,H15,"Y") -> 0 | E15: =DATEDIF(G15,H15,"YM") -> 0 | F15: =DATEDIF(G15,H15,"MD") -> 0 | G15: =IF(OR(LEN(B15)<8,LEN(C15)<8),"01.",LEFT(B15,SEARCH(".",C15)))&IF(OR(LEN(B15)<5,LEN(C15)<5),"01.",IF(LEN(B15)<8,LEFT(B15,SEARCH(".",B15)),MID(B15,SEARCH(".",B15)+1,SEARCH(".",B15,4)-SEARCH(".",B15))))&RIGHT(B15,4)+2000 -> 06.06.3666 | H15: =IF(OR(LEN(B15)<8,LEN(C15)<8),"01.",LEFT(C15,SEARCH(".",C15)))&IF(OR(LEN(B15)<5,LEN(C15)<5),"01.",IF(LEN(C15)<8,LEFT(C15,SEARCH(".",C15)),MID(C15,SEARCH(".",C15)+1,SEARCH(".",C15,4)-SEARCH(".",C15))))&RIGHT(C15,4)+2000 -> 06.06.3666 | I15: =IF(D15+E15+F15=0,"Zeitpunkt", "Zeitraum") -> Zeitpunkt | J15: =VLOOKUP(VALUE(RIGHT(B15,4)),Tabelle5!$K$22:$L$42,2,TRUE) -> 17. JH | K15: =VLOOKUP(VALUE(RIGHT(C15,4)),Tabelle5!$K$32:$L$42,2,TRUE) -> 17. JH | L15: =VLOOKUP(VALUE(RIGHT(B15,4)),Tabelle5!$M$22:$N$42,2,TRUE) -> Frühe Neuzeit
A16: =DATE(RIGHT(TEXT(B16,"TT.MM.JJJJ"),4)+4000,MID(TEXT(B16,"TT.MM.JJJJ"),4,2),LEFT(TEXT(B16,"TT.MM.JJJJ"),2)) -> 1351367 | B16: 00.00.1600 | C16: 1600 | D16: =DATEDIF(G16,H16,"Y") -> 0 | E16: =DATEDIF(G16,H16,"YM") -> 0 | F16: =DATEDIF(G16,H16,"MD") -> 0 | G16: =IF(OR(LEN(B16)<8,LEN(C16)<8),"01.",LEFT(B16,SEARCH(".",C16)))&IF(OR(LEN(B16)<5,LEN(C16)<5),"01.",IF(LEN(B16)<8,LEFT(B16,SEARCH(".",B16)),MID(B16,SEARCH(".",B16)+1,SEARCH(".",B16,4)-SEARCH(".",B16))))&RIGHT(B16,4)+2000 -> 01.01.3600 | H16: =IF(OR(LEN(B16)<8,LEN(C16)<8),"01.",LEFT(C16,SEARCH(".",C16)))&IF(OR(LEN(B16)<5,LEN(C16)<5),"01.",IF(LEN(C16)<8,LEFT(C16,SEARCH(".",C16)),MID(C16,SEARCH(".",C16)+1,SEARCH(".",C16,4)-SEARCH(".",C16))))&RIGHT(C16,4)+2000 -> 01.01.3600 | I16: =IF(D16+E16+F16=0,"Zeitpunkt", "Zeitraum") -> Zeitpunkt | J16: =VLOOKUP(VALUE(RIGHT(B16,4)),Tabelle5!$K$22:$L$42,2,TRUE) -> 16. JH | K16: =VLOOKUP(VALUE(RIGHT(C16,4)),Tabelle5!$K$32:$L$42,2,TRUE) -> 16. JH | L16: =VLOOKUP(VALUE(RIGHT(B16,4)),Tabelle5!$M$22:$N$42,2,TRUE) -> Frühe Neuzeit
A17: =DATE(RIGHT(TEXT(B17,"TT.MM.JJJJ"),4)+4000,MID(TEXT(B17,"TT.MM.JJJJ"),4,2),LEFT(TEXT(B17,"TT.MM.JJJJ"),2)) -> 1243529 | B17: 30.08.1304 | C17: 01.01.1983 | D17: =DATEDIF(G17,H17,"Y") -> 678 | E17: =DATEDIF(G17,H17,"YM") -> 4 | F17: =DATEDIF(G17,H17,"MD") -> 2 | G17: =IF(OR(LEN(B17)<8,LEN(C17)<8),"01.",LEFT(B17,SEARCH(".",C17)))&IF(OR(LEN(B17)<5,LEN(C17)<5),"01.",IF(LEN(B17)<8,LEFT(B17,SEARCH(".",B17)),MID(B17,SEARCH(".",B17)+1,SEARCH(".",B17,4)-SEARCH(".",B17))))&RIGHT(B17,4)+2000 -> 30.08.3304 | H17: =IF(OR(LEN(B17)<8,LEN(C17)<8),"01.",LEFT(C17,SEARCH(".",C17)))&IF(OR(LEN(B17)<5,LEN(C17)<5),"01.",IF(LEN(C17)<8,LEFT(C17,SEARCH(".",C17)),MID(C17,SEARCH(".",C17)+1,SEARCH(".",C17,4)-SEARCH(".",C17))))&RIGHT(C17,4)+2000 -> 01.01.3983 | I17: =IF(D17+E17+F17=0,"Zeitpunkt", "Zeitraum") -> Zeitraum | J17: =VLOOKUP(VALUE(RIGHT(B17,4)),Tabelle5!$K$22:$L$42,2,TRUE) -> 14. JH | K17: =VLOOKUP(VALUE(RIGHT(C17,4)),Tabelle5!$K$32:$L$42,2,TRUE) -> 20. JH | L17: =VLOOKUP(VALUE(RIGHT(B17,4)),Tabelle5!$M$22:$N$42,2,TRUE) -> Spätmittelalter
A18: =DATE(RIGHT(TEXT(B18,"TT.MM.JJJJ"),4)+4000,MID(TEXT(B18,"TT.MM.JJJJ"),4,2),LEFT(TEXT(B18,"TT.MM.JJJJ"),2)) -> 1243529 | B18: 30.08.1304 | C18: 01.01.1983 | D18: =DATEDIF(G18,H18,"Y") -> 678 | E18: =DATEDIF(G18,H18,"YM") -> 4 | F18: =DATEDIF(G18,H18,"MD") -> 2 | G18: =IF(OR(LEN(B18)<8,LEN(C18)<8),"01.",LEFT(B18,SEARCH(".",C18)))&IF(OR(LEN(B18)<5,LEN(C18)<5),"01.",IF(LEN(B18)<8,LEFT(B18,SEARCH(".",B18)),MID(B18,SEARCH(".",B18)+1,SEARCH(".",B18,4)-SEARCH(".",B18))))&RIGHT(B18,4)+2000 -> 30.08.3304 | H18: =IF(OR(LEN(B18)<8,LEN(C18)<8),"01.",LEFT(C18,SEARCH(".",C18)))&IF(OR(LEN(B18)<5,LEN(C18)<5),"01.",IF(LEN(C18)<8,LEFT(C18,SEARCH(".",C18)),MID(C18,SEARCH(".",C18)+1,SEARCH(".",C18,4)-SEARCH(".",C18))))&RIGHT(C18,4)+2000 -> 01.01.3983 | I18: =IF(D18+E18+F18=0,"Zeitpunkt", "Zeitraum") -> Zeitraum | J18: =VLOOKUP(VALUE(RIGHT(B18,4)),Tabelle5!$K$22:$L$42,2,TRUE) -> 14. JH | K18: =VLOOKUP(VALUE(RIGHT(C18,4)),Tabelle5!$K$32:$L$42,2,TRUE) -> 20. JH | L18: =VLOOKUP(VALUE(RIGHT(B18,4)),Tabelle5!$M$22:$N$42,2,TRUE) -> Spätmittelalter
A19: =DATE(RIGHT(TEXT(B19,"TT.MM.JJJJ"),4)+4000,MID(TEXT(B19,"TT.MM.JJJJ"),4,2),LEFT(TEXT(B19,"TT.MM.JJJJ"),2)) -> 767377 | B19: 01.01.0001 | C19: 01.02.1904 | D19: =DATEDIF(G19,H19,"Y") -> 1903 | E19: =DATEDIF(G19,H19,"YM") -> 1 | F19: =DATEDIF(G19,H19,"MD") -> 0 | G19: =IF(OR(LEN(B19)<8,LEN(C19)<8),"01.",LEFT(B19,SEARCH(".",C19)))&IF(OR(LEN(B19)<5,LEN(C19)<5),"01.",IF(LEN(B19)<8,LEFT(B19,SEARCH(".",B19)),MID(B19,SEARCH(".",B19)+1,SEARCH(".",B19,4)-SEARCH(".",B19))))&RIGHT(B19,4)+2000 -> 01.01.2001 | H19: =IF(OR(LEN(B19)<8,LEN(C19)<8),"01.",LEFT(C19,SEARCH(".",C19)))&IF(OR(LEN(B19)<5,LEN(C19)<5),"01.",IF(LEN(C19)<8,LEFT(C19,SEARCH(".",C19)),MID(C19,SEARCH(".",C19)+1,SEARCH(".",C19,4)-SEARCH(".",C19))))&RIGHT(C19,4)+2000 -> 01.02.3904 | I19: =IF(D19+E19+F19=0,"Zeitpunkt", "Zeitraum") -> Zeitraum | J19: =VLOOKUP(VALUE(RIGHT(B19,4)),Tabelle5!$K$22:$L$42,2,TRUE) -> 1. JH | K19: =VLOOKUP(VALUE(RIGHT(C19,4)),Tabelle5!$K$32:$L$42,2,TRUE) -> 20. JH | L19: =VLOOKUP(VALUE(RIGHT(B19,4)),Tabelle5!$M$22:$N$42,2,TRUE) -> Antike
A20: =DATE(RIGHT(TEXT(B20,"TT.MM.JJJJ"),4)+4000,MID(TEXT(B20,"TT.MM.JJJJ"),4,2),LEFT(TEXT(B20,"TT.MM.JJJJ"),2)) -> 767377 | B20: 01.01.0001 | C20: 01.02.1904 | D20: =DATEDIF(G20,H20,"Y") -> 1903 | E20: =DATEDIF(G20,H20,"YM") -> 1 | F20: =DATEDIF(G20,H20,"MD") -> 0 | G20: =IF(OR(LEN(B20)<8,LEN(C20)<8),"01.",LEFT(B20,SEARCH(".",C20)))&IF(OR(LEN(B20)<5,LEN(C20)<5),"01.",IF(LEN(B20)<8,LEFT(B20,SEARCH(".",B20)),MID(B20,SEARCH(".",B20)+1,SEARCH(".",B20,4)-SEARCH(".",B20))))&RIGHT(B20,4)+2000 -> 01.01.2001 | H20: =IF(OR(LEN(B20)<8,LEN(C20)<8),"01.",LEFT(C20,SEARCH(".",C20)))&IF(OR(LEN(B20)<5,LEN(C20)<5),"01.",IF(LEN(C20)<8,LEFT(C20,SEARCH(".",C20)),MID(C20,SEARCH(".",C20)+1,SEARCH(".",C20,4)-SEARCH(".",C20))))&RIGHT(C20,4)+2000 -> 01.02.3904 | I20: =IF(D20+E20+F20=0,"Zeitpunkt", "Zeitraum") -> Zeitraum | J20: =VLOOKUP(VALUE(RIGHT(B20,4)),Tabelle5!$K$22:$L$42,2,TRUE) -> 1. JH | K20: =VLOOKUP(VALUE(RIGHT(C20,4)),Tabelle5!$K$32:$L$42,2,TRUE) -> 20. JH | L20: =VLOOKUP(VALUE(RIGHT(B20,4)),Tabelle5!$M$22:$N$42,2,TRUE) -> Antike

Sheet Tabelle2
A1: Person
A2: Ereignis
A3: Unternehmen / Einrichtung / Institution
A4: Gruppierungen (organisiert)
A5: Bewegung
A6: Gesellschaft / Bevölkerung / Land / Volk
A7: Projekt
A8: Protest / Widerstand
A9: Revolution / soziale Kämpfe
A10: Repression / Verfolgung

Sheet Tabelle3
A1: Afghanistan
A2: Ägypten
A3: Åland
A4: Albanien
A5: Algerien
A6: Amerikanische Jungferninseln
A7: Amerikanisch-Samoa
A8: Andorra
A9: Angola
A10: Anguilla
A11: Antarktika
A12: Antigua und Barbuda
... A255: Zypern

Sheet Tabelle4
A1: nach Selbstdefinition: Anarchistisch / Libertär / Freiheitlich Sozialistisch & antistaatlich
A2: zum Teil nach Selbstdefinition: Anarchistisch / Libertär / Freiheitlich Sozialistisch
A3: Anarchistische Tendenzen / Erfüllt zu maßgeblichen Anteilen anarchistische Merkmale
A4: Volk bzw. Gesellschaft ohne Staat / ohne instiutionelle Herrschaftsstrukturen / ohne Verfassung / flache Hierarchien

Sheet Tabelle5
K22: 1 | L22: 1. JH | M22: 1 | N22: Antike
K23: 101 | L23: 2. JH | M23: 101 | N23: Antike
K24: 201 | L24: 3. JH | M24: 201 | N24: Spätantike
K25: 301 | L25: 4. JH | M25: 301 | N25: Spätantike
K26: 401 | L26: 5. JH | M26: 401 | N26: Spätantike
K27: 501 | L27: 6. JH | M27: 501 | N27: Übergang: Spätantike zu Frühmittelalter
K28: 601 | L28: 7. JH | M28: 601 | N28: Frühmittelalter
K29: 701 | L29: 8. JH | M29: 701 | N29: Frühmittelalter
K30: 801 | L30: 9. JH | M30: 801 | N30: Frühmittelalter
K31: 901 | L31: 10. JH | M31: 901 | N31: Frühmittelalter
K32: 1001 | L32: 11. JH | M32: 1001 | N32: Übergang: Frühmittelalter zu Hochmittelalter
K33: 1101 | L33: 12. JH | M33: 1101 | N33: Hochmittelalter
... K42: 2001 | L42: 21. JH | M42: 2001 | N42: Gegenwärtiges JH

Sheet Tabelle6
A1: 1460971
